BEGIN:VCALENDAR
VERSION:2.0
PRODID:icalendar-ruby
CALSCALE:GREGORIAN
METHOD:PUBLISH
X-WR-CALNAME:Orillia Volleyball Club Calendar
BEGIN:VTIMEZONE
TZID:America/New_York
BEGIN:DAYLIGHT
DTSTART:20260308T030000
TZOFFSETFROM:-0500
TZOFFSETTO:-0400
RRULE:FREQ=YEARLY;BYDAY=2SU;BYMONTH=3
TZNAME:EDT
END:DAYLIGHT
BEGIN:STANDARD
DTSTART:20261101T010000
TZOFFSETFROM:-0400
TZOFFSETTO:-0500
RRULE:FREQ=YEARLY;BYDAY=1SU;BYMONTH=11
TZNAME:EST
END:STANDARD
END:VTIMEZONE
BEGIN:VEVENT
DTSTAMP:20260424T000745Z
UID:game-149762587
DTSTART;TZID=America/New_York:20260503T180000
DTEND;TZID=America/New_York:20260503T190000
DESCRIPTION:Cuban Missle Crisis vs Hit Happens @ Court 1
LOCATION:Court 1
SUMMARY:Cuban Missle Crisis vs Hit Happens
URL;VALUE=URI:https://www.ovcleagues.ca/sites/orilliavolleyballclub/games/1
 49762587
END:VEVENT
BEGIN:VEVENT
DTSTAMP:20260424T000745Z
UID:game-149762590
DTSTART;TZID=America/New_York:20260503T190000
DTEND;TZID=America/New_York:20260503T200000
DESCRIPTION:Death Row vs Hit Happens @ Court 1
LOCATION:Court 1
SUMMARY:Death Row vs Hit Happens
URL;VALUE=URI:https://www.ovcleagues.ca/sites/orilliavolleyballclub/games/1
 49762590
END:VEVENT
BEGIN:VEVENT
DTSTAMP:20260424T000745Z
UID:game-149762593
DTSTART;TZID=America/New_York:20260510T180000
DTEND;TZID=America/New_York:20260510T190000
DESCRIPTION:Hit Happens vs Big Dig Energy @ Court 1
LOCATION:Court 1
SUMMARY:Hit Happens vs Big Dig Energy
URL;VALUE=URI:https://www.ovcleagues.ca/sites/orilliavolleyballclub/games/1
 49762593
END:VEVENT
BEGIN:VEVENT
DTSTAMP:20260424T000745Z
UID:game-149762598
DTSTART;TZID=America/New_York:20260510T190000
DTEND;TZID=America/New_York:20260510T200000
DESCRIPTION:Hit Happens vs Block City @ Court 3
LOCATION:Court 3
SUMMARY:Hit Happens vs Block City
URL;VALUE=URI:https://www.ovcleagues.ca/sites/orilliavolleyballclub/games/1
 49762598
END:VEVENT
BEGIN:VEVENT
DTSTAMP:20260424T000745Z
UID:game-149762599
DTSTART;TZID=America/New_York:20260517T180000
DTEND;TZID=America/New_York:20260517T190000
DESCRIPTION:Hit Happens vs Lucky 7 @ Court 1
LOCATION:Court 1
SUMMARY:Hit Happens vs Lucky 7
URL;VALUE=URI:https://www.ovcleagues.ca/sites/orilliavolleyballclub/games/1
 49762599
END:VEVENT
BEGIN:VEVENT
DTSTAMP:20260424T000745Z
UID:game-149762602
DTSTART;TZID=America/New_York:20260517T190000
DTEND;TZID=America/New_York:20260517T200000
DESCRIPTION:Cuban Missle Crisis vs Hit Happens @ Court 1
LOCATION:Court 1
SUMMARY:Cuban Missle Crisis vs Hit Happens
URL;VALUE=URI:https://www.ovcleagues.ca/sites/orilliavolleyballclub/games/1
 49762602
END:VEVENT
BEGIN:VEVENT
DTSTAMP:20260424T000745Z
UID:game-149762605
DTSTART;TZID=America/New_York:20260524T180000
DTEND;TZID=America/New_York:20260524T190000
DESCRIPTION:Death Row vs Hit Happens @ Court 1
LOCATION:Court 1
SUMMARY:Death Row vs Hit Happens
URL;VALUE=URI:https://www.ovcleagues.ca/sites/orilliavolleyballclub/games/1
 49762605
END:VEVENT
BEGIN:VEVENT
DTSTAMP:20260424T000745Z
UID:game-149762608
DTSTART;TZID=America/New_York:20260524T190000
DTEND;TZID=America/New_York:20260524T200000
DESCRIPTION:Hit Happens vs Big Dig Energy @ Court 1
LOCATION:Court 1
SUMMARY:Hit Happens vs Big Dig Energy
URL;VALUE=URI:https://www.ovcleagues.ca/sites/orilliavolleyballclub/games/1
 49762608
END:VEVENT
BEGIN:VEVENT
DTSTAMP:20260424T000745Z
UID:game-149762613
DTSTART;TZID=America/New_York:20260531T180000
DTEND;TZID=America/New_York:20260531T190000
DESCRIPTION:Hit Happens vs Block City @ Court 3
LOCATION:Court 3
SUMMARY:Hit Happens vs Block City
URL;VALUE=URI:https://www.ovcleagues.ca/sites/orilliavolleyballclub/games/1
 49762613
END:VEVENT
BEGIN:VEVENT
DTSTAMP:20260424T000745Z
UID:game-149762614
DTSTART;TZID=America/New_York:20260531T190000
DTEND;TZID=America/New_York:20260531T200000
DESCRIPTION:Lucky 7 vs Hit Happens @ Court 1
LOCATION:Court 1
SUMMARY:Lucky 7 vs Hit Happens
URL;VALUE=URI:https://www.ovcleagues.ca/sites/orilliavolleyballclub/games/1
 49762614
END:VEVENT
BEGIN:VEVENT
DTSTAMP:20260424T000745Z
UID:game-149762617
DTSTART;TZID=America/New_York:20260607T180000
DTEND;TZID=America/New_York:20260607T190000
DESCRIPTION:Cuban Missle Crisis vs Hit Happens @ Court 1
LOCATION:Court 1
SUMMARY:Cuban Missle Crisis vs Hit Happens
URL;VALUE=URI:https://www.ovcleagues.ca/sites/orilliavolleyballclub/games/1
 49762617
END:VEVENT
BEGIN:VEVENT
DTSTAMP:20260424T000745Z
UID:game-149762620
DTSTART;TZID=America/New_York:20260607T190000
DTEND;TZID=America/New_York:20260607T200000
DESCRIPTION:Death Row vs Hit Happens @ Court 1
LOCATION:Court 1
SUMMARY:Death Row vs Hit Happens
URL;VALUE=URI:https://www.ovcleagues.ca/sites/orilliavolleyballclub/games/1
 49762620
END:VEVENT
BEGIN:VEVENT
DTSTAMP:20260424T000745Z
UID:game-149762623
DTSTART;TZID=America/New_York:20260614T180000
DTEND;TZID=America/New_York:20260614T190000
DESCRIPTION:Hit Happens vs Big Dig Energy @ Court 1
LOCATION:Court 1
SUMMARY:Hit Happens vs Big Dig Energy
URL;VALUE=URI:https://www.ovcleagues.ca/sites/orilliavolleyballclub/games/1
 49762623
END:VEVENT
BEGIN:VEVENT
DTSTAMP:20260424T000745Z
UID:game-149762628
DTSTART;TZID=America/New_York:20260614T190000
DTEND;TZID=America/New_York:20260614T200000
DESCRIPTION:Hit Happens vs Block City @ Court 3
LOCATION:Court 3
SUMMARY:Hit Happens vs Block City
URL;VALUE=URI:https://www.ovcleagues.ca/sites/orilliavolleyballclub/games/1
 49762628
END:VEVENT
END:VCALENDAR
