BEGIN:VCALENDAR
VERSION:2.0
PRODID:icalendar-ruby
CALSCALE:GREGORIAN
METHOD:PUBLISH
X-WR-CALNAME:Orillia Volleyball Club Calendar
BEGIN:VTIMEZONE
TZID:America/New_York
BEGIN:DAYLIGHT
DTSTART:20260308T030000
TZOFFSETFROM:-0500
TZOFFSETTO:-0400
RRULE:FREQ=YEARLY;BYDAY=2SU;BYMONTH=3
TZNAME:EDT
END:DAYLIGHT
BEGIN:STANDARD
DTSTART:20261101T010000
TZOFFSETFROM:-0400
TZOFFSETTO:-0500
RRULE:FREQ=YEARLY;BYDAY=1SU;BYMONTH=11
TZNAME:EST
END:STANDARD
END:VTIMEZONE
BEGIN:VEVENT
DTSTAMP:20260424T000251Z
UID:game-149762588
DTSTART;TZID=America/New_York:20260503T180000
DTEND;TZID=America/New_York:20260503T190000
DESCRIPTION:Big Dig Energy vs Block City @ Court 2
LOCATION:Court 2
SUMMARY:Big Dig Energy vs Block City
URL;VALUE=URI:https://www.ovcleagues.ca/sites/orilliavolleyballclub/games/1
 49762588
END:VEVENT
BEGIN:VEVENT
DTSTAMP:20260424T000251Z
UID:game-149762591
DTSTART;TZID=America/New_York:20260503T190000
DTEND;TZID=America/New_York:20260503T200000
DESCRIPTION:Big Dig Energy vs Lucky 7 @ Court 2
LOCATION:Court 2
SUMMARY:Big Dig Energy vs Lucky 7
URL;VALUE=URI:https://www.ovcleagues.ca/sites/orilliavolleyballclub/games/1
 49762591
END:VEVENT
BEGIN:VEVENT
DTSTAMP:20260424T000251Z
UID:game-149762593
DTSTART;TZID=America/New_York:20260510T180000
DTEND;TZID=America/New_York:20260510T190000
DESCRIPTION:Hit Happens vs Big Dig Energy @ Court 1
LOCATION:Court 1
SUMMARY:Hit Happens vs Big Dig Energy
URL;VALUE=URI:https://www.ovcleagues.ca/sites/orilliavolleyballclub/games/1
 49762593
END:VEVENT
BEGIN:VEVENT
DTSTAMP:20260424T000251Z
UID:game-149762597
DTSTART;TZID=America/New_York:20260510T190000
DTEND;TZID=America/New_York:20260510T200000
DESCRIPTION:Big Dig Energy vs Death Row @ Court 2
LOCATION:Court 2
SUMMARY:Big Dig Energy vs Death Row
URL;VALUE=URI:https://www.ovcleagues.ca/sites/orilliavolleyballclub/games/1
 49762597
END:VEVENT
BEGIN:VEVENT
DTSTAMP:20260424T000251Z
UID:game-149762601
DTSTART;TZID=America/New_York:20260517T180000
DTEND;TZID=America/New_York:20260517T190000
DESCRIPTION:Cuban Missle Crisis vs Big Dig Energy @ Court 3
LOCATION:Court 3
SUMMARY:Cuban Missle Crisis vs Big Dig Energy
URL;VALUE=URI:https://www.ovcleagues.ca/sites/orilliavolleyballclub/games/1
 49762601
END:VEVENT
BEGIN:VEVENT
DTSTAMP:20260424T000251Z
UID:game-149762603
DTSTART;TZID=America/New_York:20260517T190000
DTEND;TZID=America/New_York:20260517T200000
DESCRIPTION:Big Dig Energy vs Block City @ Court 2
LOCATION:Court 2
SUMMARY:Big Dig Energy vs Block City
URL;VALUE=URI:https://www.ovcleagues.ca/sites/orilliavolleyballclub/games/1
 49762603
END:VEVENT
BEGIN:VEVENT
DTSTAMP:20260424T000251Z
UID:game-149762606
DTSTART;TZID=America/New_York:20260524T180000
DTEND;TZID=America/New_York:20260524T190000
DESCRIPTION:Lucky 7 vs Big Dig Energy @ Court 2
LOCATION:Court 2
SUMMARY:Lucky 7 vs Big Dig Energy
URL;VALUE=URI:https://www.ovcleagues.ca/sites/orilliavolleyballclub/games/1
 49762606
END:VEVENT
BEGIN:VEVENT
DTSTAMP:20260424T000251Z
UID:game-149762608
DTSTART;TZID=America/New_York:20260524T190000
DTEND;TZID=America/New_York:20260524T200000
DESCRIPTION:Hit Happens vs Big Dig Energy @ Court 1
LOCATION:Court 1
SUMMARY:Hit Happens vs Big Dig Energy
URL;VALUE=URI:https://www.ovcleagues.ca/sites/orilliavolleyballclub/games/1
 49762608
END:VEVENT
BEGIN:VEVENT
DTSTAMP:20260424T000251Z
UID:game-149762612
DTSTART;TZID=America/New_York:20260531T180000
DTEND;TZID=America/New_York:20260531T190000
DESCRIPTION:Big Dig Energy vs Death Row @ Court 2
LOCATION:Court 2
SUMMARY:Big Dig Energy vs Death Row
URL;VALUE=URI:https://www.ovcleagues.ca/sites/orilliavolleyballclub/games/1
 49762612
END:VEVENT
BEGIN:VEVENT
DTSTAMP:20260424T000251Z
UID:game-149762616
DTSTART;TZID=America/New_York:20260531T190000
DTEND;TZID=America/New_York:20260531T200000
DESCRIPTION:Cuban Missle Crisis vs Big Dig Energy @ Court 3
LOCATION:Court 3
SUMMARY:Cuban Missle Crisis vs Big Dig Energy
URL;VALUE=URI:https://www.ovcleagues.ca/sites/orilliavolleyballclub/games/1
 49762616
END:VEVENT
BEGIN:VEVENT
DTSTAMP:20260424T000251Z
UID:game-149762618
DTSTART;TZID=America/New_York:20260607T180000
DTEND;TZID=America/New_York:20260607T190000
DESCRIPTION:Big Dig Energy vs Block City @ Court 2
LOCATION:Court 2
SUMMARY:Big Dig Energy vs Block City
URL;VALUE=URI:https://www.ovcleagues.ca/sites/orilliavolleyballclub/games/1
 49762618
END:VEVENT
BEGIN:VEVENT
DTSTAMP:20260424T000251Z
UID:game-149762621
DTSTART;TZID=America/New_York:20260607T190000
DTEND;TZID=America/New_York:20260607T200000
DESCRIPTION:Lucky 7 vs Big Dig Energy @ Court 2
LOCATION:Court 2
SUMMARY:Lucky 7 vs Big Dig Energy
URL;VALUE=URI:https://www.ovcleagues.ca/sites/orilliavolleyballclub/games/1
 49762621
END:VEVENT
BEGIN:VEVENT
DTSTAMP:20260424T000251Z
UID:game-149762623
DTSTART;TZID=America/New_York:20260614T180000
DTEND;TZID=America/New_York:20260614T190000
DESCRIPTION:Hit Happens vs Big Dig Energy @ Court 1
LOCATION:Court 1
SUMMARY:Hit Happens vs Big Dig Energy
URL;VALUE=URI:https://www.ovcleagues.ca/sites/orilliavolleyballclub/games/1
 49762623
END:VEVENT
BEGIN:VEVENT
DTSTAMP:20260424T000251Z
UID:game-149762627
DTSTART;TZID=America/New_York:20260614T190000
DTEND;TZID=America/New_York:20260614T200000
DESCRIPTION:Big Dig Energy vs Death Row @ Court 2
LOCATION:Court 2
SUMMARY:Big Dig Energy vs Death Row
URL;VALUE=URI:https://www.ovcleagues.ca/sites/orilliavolleyballclub/games/1
 49762627
END:VEVENT
END:VCALENDAR
