BEGIN:VCALENDAR
VERSION:2.0
PRODID:icalendar-ruby
CALSCALE:GREGORIAN
METHOD:PUBLISH
X-WR-CALNAME:Orillia Volleyball Club Calendar
BEGIN:VTIMEZONE
TZID:America/New_York
BEGIN:DAYLIGHT
DTSTART:20260308T030000
TZOFFSETFROM:-0500
TZOFFSETTO:-0400
RRULE:FREQ=YEARLY;BYDAY=2SU;BYMONTH=3
TZNAME:EDT
END:DAYLIGHT
BEGIN:STANDARD
DTSTART:20261101T010000
TZOFFSETFROM:-0400
TZOFFSETTO:-0500
RRULE:FREQ=YEARLY;BYDAY=1SU;BYMONTH=11
TZNAME:EST
END:STANDARD
END:VTIMEZONE
BEGIN:VEVENT
DTSTAMP:20260424T000428Z
UID:game-149762587
DTSTART;TZID=America/New_York:20260503T180000
DTEND;TZID=America/New_York:20260503T190000
DESCRIPTION:Cuban Missle Crisis vs Hit Happens @ Court 1
LOCATION:Court 1
SUMMARY:Cuban Missle Crisis vs Hit Happens
URL;VALUE=URI:https://www.ovcleagues.ca/sites/orilliavolleyballclub/games/1
 49762587
END:VEVENT
BEGIN:VEVENT
DTSTAMP:20260424T000428Z
UID:game-149762592
DTSTART;TZID=America/New_York:20260503T190000
DTEND;TZID=America/New_York:20260503T200000
DESCRIPTION:Block City vs Cuban Missle Crisis @ Court 3
LOCATION:Court 3
SUMMARY:Block City vs Cuban Missle Crisis
URL;VALUE=URI:https://www.ovcleagues.ca/sites/orilliavolleyballclub/games/1
 49762592
END:VEVENT
BEGIN:VEVENT
DTSTAMP:20260424T000428Z
UID:game-149762594
DTSTART;TZID=America/New_York:20260510T180000
DTEND;TZID=America/New_York:20260510T190000
DESCRIPTION:Death Row vs Cuban Missle Crisis @ Court 2
LOCATION:Court 2
SUMMARY:Death Row vs Cuban Missle Crisis
URL;VALUE=URI:https://www.ovcleagues.ca/sites/orilliavolleyballclub/games/1
 49762594
END:VEVENT
BEGIN:VEVENT
DTSTAMP:20260424T000428Z
UID:game-149762596
DTSTART;TZID=America/New_York:20260510T190000
DTEND;TZID=America/New_York:20260510T200000
DESCRIPTION:Lucky 7 vs Cuban Missle Crisis @ Court 1
LOCATION:Court 1
SUMMARY:Lucky 7 vs Cuban Missle Crisis
URL;VALUE=URI:https://www.ovcleagues.ca/sites/orilliavolleyballclub/games/1
 49762596
END:VEVENT
BEGIN:VEVENT
DTSTAMP:20260424T000428Z
UID:game-149762601
DTSTART;TZID=America/New_York:20260517T180000
DTEND;TZID=America/New_York:20260517T190000
DESCRIPTION:Cuban Missle Crisis vs Big Dig Energy @ Court 3
LOCATION:Court 3
SUMMARY:Cuban Missle Crisis vs Big Dig Energy
URL;VALUE=URI:https://www.ovcleagues.ca/sites/orilliavolleyballclub/games/1
 49762601
END:VEVENT
BEGIN:VEVENT
DTSTAMP:20260424T000428Z
UID:game-149762602
DTSTART;TZID=America/New_York:20260517T190000
DTEND;TZID=America/New_York:20260517T200000
DESCRIPTION:Cuban Missle Crisis vs Hit Happens @ Court 1
LOCATION:Court 1
SUMMARY:Cuban Missle Crisis vs Hit Happens
URL;VALUE=URI:https://www.ovcleagues.ca/sites/orilliavolleyballclub/games/1
 49762602
END:VEVENT
BEGIN:VEVENT
DTSTAMP:20260424T000428Z
UID:game-149762607
DTSTART;TZID=America/New_York:20260524T180000
DTEND;TZID=America/New_York:20260524T190000
DESCRIPTION:Block City vs Cuban Missle Crisis @ Court 3
LOCATION:Court 3
SUMMARY:Block City vs Cuban Missle Crisis
URL;VALUE=URI:https://www.ovcleagues.ca/sites/orilliavolleyballclub/games/1
 49762607
END:VEVENT
BEGIN:VEVENT
DTSTAMP:20260424T000428Z
UID:game-149762609
DTSTART;TZID=America/New_York:20260524T190000
DTEND;TZID=America/New_York:20260524T200000
DESCRIPTION:Cuban Missle Crisis vs Death Row @ Court 2
LOCATION:Court 2
SUMMARY:Cuban Missle Crisis vs Death Row
URL;VALUE=URI:https://www.ovcleagues.ca/sites/orilliavolleyballclub/games/1
 49762609
END:VEVENT
BEGIN:VEVENT
DTSTAMP:20260424T000428Z
UID:game-149762611
DTSTART;TZID=America/New_York:20260531T180000
DTEND;TZID=America/New_York:20260531T190000
DESCRIPTION:Lucky 7 vs Cuban Missle Crisis @ Court 1
LOCATION:Court 1
SUMMARY:Lucky 7 vs Cuban Missle Crisis
URL;VALUE=URI:https://www.ovcleagues.ca/sites/orilliavolleyballclub/games/1
 49762611
END:VEVENT
BEGIN:VEVENT
DTSTAMP:20260424T000428Z
UID:game-149762616
DTSTART;TZID=America/New_York:20260531T190000
DTEND;TZID=America/New_York:20260531T200000
DESCRIPTION:Cuban Missle Crisis vs Big Dig Energy @ Court 3
LOCATION:Court 3
SUMMARY:Cuban Missle Crisis vs Big Dig Energy
URL;VALUE=URI:https://www.ovcleagues.ca/sites/orilliavolleyballclub/games/1
 49762616
END:VEVENT
BEGIN:VEVENT
DTSTAMP:20260424T000428Z
UID:game-149762617
DTSTART;TZID=America/New_York:20260607T180000
DTEND;TZID=America/New_York:20260607T190000
DESCRIPTION:Cuban Missle Crisis vs Hit Happens @ Court 1
LOCATION:Court 1
SUMMARY:Cuban Missle Crisis vs Hit Happens
URL;VALUE=URI:https://www.ovcleagues.ca/sites/orilliavolleyballclub/games/1
 49762617
END:VEVENT
BEGIN:VEVENT
DTSTAMP:20260424T000428Z
UID:game-149762622
DTSTART;TZID=America/New_York:20260607T190000
DTEND;TZID=America/New_York:20260607T200000
DESCRIPTION:Block City vs Cuban Missle Crisis @ Court 3
LOCATION:Court 3
SUMMARY:Block City vs Cuban Missle Crisis
URL;VALUE=URI:https://www.ovcleagues.ca/sites/orilliavolleyballclub/games/1
 49762622
END:VEVENT
BEGIN:VEVENT
DTSTAMP:20260424T000428Z
UID:game-149762624
DTSTART;TZID=America/New_York:20260614T180000
DTEND;TZID=America/New_York:20260614T190000
DESCRIPTION:Cuban Missle Crisis vs Death Row @ Court 2
LOCATION:Court 2
SUMMARY:Cuban Missle Crisis vs Death Row
URL;VALUE=URI:https://www.ovcleagues.ca/sites/orilliavolleyballclub/games/1
 49762624
END:VEVENT
BEGIN:VEVENT
DTSTAMP:20260424T000428Z
UID:game-149762626
DTSTART;TZID=America/New_York:20260614T190000
DTEND;TZID=America/New_York:20260614T200000
DESCRIPTION:Lucky 7 vs Cuban Missle Crisis @ Court 1
LOCATION:Court 1
SUMMARY:Lucky 7 vs Cuban Missle Crisis
URL;VALUE=URI:https://www.ovcleagues.ca/sites/orilliavolleyballclub/games/1
 49762626
END:VEVENT
END:VCALENDAR
